BEGIN:VCALENDAR
VERSION:2.0
PRODID:-//nc values - ECPv6.15.20//NONSGML v1.0//EN
CALSCALE:GREGORIAN
METHOD:PUBLISH
X-ORIGINAL-URL:https://ncvalues.org
X-WR-CALDESC:Events for nc values
REFRESH-INTERVAL;VALUE=DURATION:PT1H
X-Robots-Tag:noindex
X-PUBLISHED-TTL:PT1H
BEGIN:VTIMEZONE
TZID:UTC
BEGIN:STANDARD
TZOFFSETFROM:+0000
TZOFFSETTO:+0000
TZNAME:UTC
DTSTART:20220101T000000
END:STANDARD
END:VTIMEZONE
BEGIN:VEVENT
DTSTART;VALUE=DATE:20260113
DTEND;VALUE=DATE:20260114
DTSTAMP:20260422T041409
CREATED:20251230T191708Z
LAST-MODIFIED:20260108T170034Z
UID:12586-1768262400-1768348799@ncvalues.org
SUMMARY:Stand for Women’s Sports at the Supreme Court
DESCRIPTION:Join us for a free\, one-day trip to Washington\, DC on January 13th as we rally on the steps of the U.S. Supreme Court during oral arguments in State of West Virginia v. B.P.J.—a pivotal case defending fairness and safety in women’s sports. \nWe’re inviting supporters to start the new year by standing strong for biological reality and protecting girls’ and women’s opportunities in athletics. Buses will depart early on January 13 and return later that day after scheduled activities. There is no cost to attend. \nWhy this matters:\n\nWest Virginia’s Save Women’s Sports Act was passed to uphold Title IX’s promise of equal opportunity by ensuring women and girls are not forced to compete against males. After the law was challenged by the American Civil Liberties Union\, Alliance Defending Freedom intervened to defend the law. The Supreme Court now has the opportunity to restore clarity and fairness nationwide. \nWhat to expect: \n\nFree bus transportation to and from DC\nPeaceful rally outside the Supreme Court\nA meaningful way to take an actual stand for women’s sports\nCurrently\, we have buses chartered to depart from Raleigh\, Charlotte\, and Winston-Salem. Based on interest\, we may charter additional buses in other regions of the state.\n\nDeparture Schedule: \n\nRaleigh Bus:\n\nTrip up: 4:00am-8:15am\nReturn trip: 3:00pm-8:00pm\n\n\nCharlotte Bus:\n\nTrip up: 2:00am-8:15am\nReturn trip: 2:45pm-9:00pm\n\n\nWinston-Salem Bus:\n\nTrip up: 3:00am-8:15am\nReturn trip: 2:45pm-8:00pm\n\n\nExact departure locations are TBD. People will be dropped off and picked up directly from the steps of the Supreme Court building.\n\nRally Schedule: \n\n9:00am: Music Starts\n10:30am: Speeches Start\n1:30pm (approx): Rally Ends\n\nJoin us by RSVPing below: \nJoin us by RSVPing below: \n\nFirst Name *Last Name *Email *PhoneCityZipSelect your bus departure location:CharlotteRaleighWinston-SalemNumber of additional guests:Comment (optional)SUBMITThank you for your submission.×There was an error in your registration. Please try again later.×
URL:https://ncvalues.org/event/dc/
CATEGORIES:All,Days of Action,Rally
ATTACH;FMTTYPE=image/jpeg:https://ncvalues.org/wp-content/uploads/2025/12/IMG_8980-e1767122396561.jpeg
ORGANIZER;CN="NC Values Grassroots":MAILTO:Isaac@ncvalues.org
END:VEVENT
BEGIN:VEVENT
DTSTART;TZID=UTC:20250430T100000
DTEND;TZID=UTC:20250430T150000
DTSTAMP:20260422T041409
CREATED:20240430T090023Z
LAST-MODIFIED:20250410T200005Z
UID:9339-1746007200-1746025200@ncvalues.org
SUMMARY:2025 Legislative Day of Action
DESCRIPTION:Our annual Legislative Day of Action is on Wednesday\, April 30th\, 2025. We’ll be meeting starting at 9:00am in front of the Legislative Building (16 W Jones St.\, Raleigh\, NC). Our press conference will begin at 9:30am\, followed by our Day of Action activities at the legislature. \nWe could use your help. Our Legislative Day of Action is one of the opportunites we provide to help you share your voice with your representatives. This year\, our legislative effort is focused on The Women’s Safety and Protection Act (SB 516/HB 791). \nIf this issue is important to you\, would you consider joining us for our day of action? \nWe hope to see you in the capital. If you would like to join us\, contact Corrie at corrie@ncvalues.org. \n  \n 
URL:https://ncvalues.org/event/2025-legislative-day-of-action/
LOCATION:Legislative Building\, 16 West Jones Street\, Raleigh\, NC\, United States
CATEGORIES:All,Days of Action
ATTACH;FMTTYPE=image/jpeg:https://ncvalues.org/wp-content/uploads/2022/08/@NCVC-Narrative_Story-20220801-Photo-Places-1-e1668094663915.jpeg
ORGANIZER;CN="NC Values":MAILTO:Info@ncvalues.org
END:VEVENT
BEGIN:VEVENT
DTSTART;TZID=UTC:20230301T090000
DTEND;TZID=UTC:20230301T130000
DTSTAMP:20260422T041409
CREATED:20230224T155330Z
LAST-MODIFIED:20230228T202452Z
UID:6877-1677661200-1677675600@ncvalues.org
SUMMARY:Legislative Days of Pro-life Action Day 2
DESCRIPTION:We are raising the alarm\, and need your help. We urgently call on all pro-life supporters of our coalition to take action that helps us save over 26\,000 babies in North Carolina per year!  \nIn the next few days the NC legislature will decide what legislation will be put forward to limit abortion. This decision is being made in Republican caucuses behind closed doors\, and the pro-life movement in North Carolina needs to act NOW\, before a bill is filed. There is much pressure on these lawmakers to present a bill that only makes minimal changes to the current abortion law\, and saves only around 4\,000 babies a year. \nFor the legislature to present a bold pro-life bill that will save over 26\,000 lives a year\, they need to hear from you! A Heartbeat Act that limits abortion when a heartbeat is detected in the pre-born child—about 6 weeks—will make a significant impact by saving the lives of 22\,000 thousand more babies than the 13-week limit being floated in legislative chambers. States like Texas\, Arkansas\, Georgia\, Alabama\, Tennessee\, Kentucky\, South Carolina (although the South Carolina Supreme Court overturned it) and Missouri have passed Heartbeat Acts. Even Governor Ron Desantis in Florida has indicated that he will sign a Heartbeat Act into law. This is a decision that our legislators are deciding right now\, and they need to hear from you as soon and frequently as possible! We are talking about saving real lives. \nAs a result\, we are organizing two important Days of Action on Tuesday and Wednesday of next week (February 28th and March 1st). We’re calling on coalition members from all across the state to drive down to Raleigh and join us as we go and visit legislators in person at the General Assembly. Your presence and activism will make a critical difference in whether legislators propose a Heartbeat Act or a 13-week limit on abortion. If you would like to join us for one of these days\, click here or see the event info below: \n\nWHO: You\, and pro-life supporters all across NC.\nWHAT: Legislation Days of Pro-life Action in Support of the Heartbeat Bill.\nWHERE: 16 West Jones Street\, Raleigh\, NC. We will be set up on the lawn in the front of the legislative building on the right hand side\, starting at 9 o’clock. Look for us there.\nWHEN: Tuesday\, February 28th\, 2023\, and Wednesday\, March 1st\, 2023\, between 9am and 1pm.\nHOW: If possible\, please wear a baby blue shirt in support of the unborn and to make it easier to identify you.\n\nThank you for everything you are doing\, and as always\, we would appreciate your deepest prayers that we protect as many unborn babies in North Carolina as possible.
URL:https://ncvalues.org/event/legislative-days-of-pro-life-action-day-2/
LOCATION:Legislative Building\, 16 West Jones Street\, Raleigh\, NC\, United States
CATEGORIES:All,Days of Action
ATTACH;FMTTYPE=image/jpeg:https://ncvalues.org/wp-content/uploads/2023/01/@NCVC-Heartbeat_Brief_Story-20230117-Header-e1674585134803.jpeg
ORGANIZER;CN="NC Values":MAILTO:Info@ncvalues.org
END:VEVENT
BEGIN:VEVENT
DTSTART;TZID=UTC:20230228T090000
DTEND;TZID=UTC:20230228T130000
DTSTAMP:20260422T041409
CREATED:20230221T205750Z
LAST-MODIFIED:20230224T154429Z
UID:6855-1677574800-1677589200@ncvalues.org
SUMMARY:Legislative Days of Pro-life Action
DESCRIPTION:We are raising the alarm\, and need your help. We urgently call on all pro-life supporters of our coalition to take action that helps us save over 26\,000 babies in North Carolina per year!  \nIn the next few days the NC legislature will decide what legislation will be put forward to limit abortion. This decision is being made in Republican caucuses behind closed doors\, and the pro-life movement in North Carolina needs to act NOW\, before a bill is filed. There is much pressure on these lawmakers to present a bill that only makes minimal changes to the current abortion law\, and saves only around 4\,000 babies a year. \nFor the legislature to present a bold pro-life bill that will save over 26\,000 lives a year\, they need to hear from you! A Heartbeat Act that limits abortion when a heartbeat is detected in the pre-born child—about 6 weeks—will make a significant impact by saving the lives of 22\,000 thousand more babies than the 13-week limit being floated in legislative chambers. States like Texas\, Arkansas\, Georgia\, Alabama\, Tennessee\, Kentucky\, South Carolina (although the South Carolina Supreme Court overturned it) and Missouri have passed Heartbeat Acts. Even Governor Ron Desantis in Florida has indicated that he will sign a Heartbeat Act into law. This is a decision that our legislators are deciding right now\, and they need to hear from you as soon and frequently as possible! We are talking about saving real lives. \nAs a result\, we are organizing two important Days of Action on Tuesday and Wednesday of next week (February 28th and March 1st). We’re calling on coalition members from all across the state to drive down to Raleigh and join us as we go and visit legislators in person at the General Assembly. Your presence and activism will make a critical difference in whether legislators propose a Heartbeat Act or a 13-week limit on abortion. If you would like to join us for one of these days\, click here or see the event info below: \n\nWHO: You\, and pro-life supporters all across NC.\nWHAT: Legislation Days of Pro-life Action in Support of the Heartbeat Bill.\nWHERE: 16 West Jones Street\, Raleigh\, NC. The first floor 1000 Court of the Legislative Building (visit https://www.ncleg.gov/About/VisitorInfo for more). To meet up\, enter the building at 16 West Jones Street. There will be a big medallion with the state seal on the ground. Enter the building\, and go through security. Turn to your right and walk forward and that will be the “1000 Court” of the legislative building. You will see tables and a fountain. look for NC Values team and we will give you instructions.\nWHEN: Tuesday\, February 28th\, 2023\, and Wednesday\, March 1st\, 2023\, between 9am and 1pm.\nHOW: If possible\, please wear a baby blue shirt in support of the unborn and to make it easier to identify you.\n\nThank you for everything you are doing\, and as always\, we would appreciate your deepest prayers that we protect as many unborn babies in North Carolina as possible.
URL:https://ncvalues.org/event/legislative-days-of-pro-life-action/
LOCATION:Legislative Building\, 16 West Jones Street\, Raleigh\, NC\, United States
CATEGORIES:All,Days of Action
ATTACH;FMTTYPE=image/jpeg:https://ncvalues.org/wp-content/uploads/2023/01/@NCVC-Heartbeat_Brief_Story-20230117-Header-e1674585134803.jpeg
ORGANIZER;CN="NC Values":MAILTO:Info@ncvalues.org
END:VEVENT
END:VCALENDAR